BEGIN:VCALENDAR
VERSION:2.0
PRODID:-//Garage Morosini - ECPv6.15.13.1//NONSGML v1.0//EN
CALSCALE:GREGORIAN
METHOD:PUBLISH
X-ORIGINAL-URL:https://garage-morosini.com
X-WR-CALDESC:Évènements pour Garage Morosini
REFRESH-INTERVAL;VALUE=DURATION:PT1H
X-Robots-Tag:noindex
X-PUBLISHED-TTL:PT1H
BEGIN:VTIMEZONE
TZID:Europe/Brussels
BEGIN:DAYLIGHT
TZOFFSETFROM:+0100
TZOFFSETTO:+0200
TZNAME:CEST
DTSTART:20250330T010000
END:DAYLIGHT
BEGIN:STANDARD
TZOFFSETFROM:+0200
TZOFFSETTO:+0100
TZNAME:CET
DTSTART:20251026T010000
END:STANDARD
BEGIN:DAYLIGHT
TZOFFSETFROM:+0100
TZOFFSETTO:+0200
TZNAME:CEST
DTSTART:20260329T010000
END:DAYLIGHT
BEGIN:STANDARD
TZOFFSETFROM:+0200
TZOFFSETTO:+0100
TZNAME:CET
DTSTART:20261025T010000
END:STANDARD
BEGIN:DAYLIGHT
TZOFFSETFROM:+0100
TZOFFSETTO:+0200
TZNAME:CEST
DTSTART:20270328T010000
END:DAYLIGHT
BEGIN:STANDARD
TZOFFSETFROM:+0200
TZOFFSETTO:+0100
TZNAME:CET
DTSTART:20271031T010000
END:STANDARD
END:VTIMEZONE
BEGIN:VEVENT
DTSTART;TZID=Europe/Brussels:20260317T080000
DTEND;TZID=Europe/Brussels:20260531T170000
DTSTAMP:20260423T132529
CREATED:20260326T141352Z
LAST-MODIFIED:20260326T141352Z
UID:9912-1773734400-1780246800@garage-morosini.com
SUMMARY:Mt07 Pack Black Sport Offert
DESCRIPTION:Jusqu’au 31 mai 2026\, pour l’achat d’une nouvelle MT-07 Y-AMT\, vous recevrez le kit complet Sport Pack Black d’une valeur de 610 €\, entièrement gratuite. \nVous pouvez ainsi rouler avec la version la plus sportive de la déjà emblématique MT-07.
URL:https://garage-morosini.com/evenements/mt07-pack-black-sport-offert/
ATTACH;FMTTYPE=image/jpeg:https://garage-morosini.com/wp-content/uploads/2026/03/WEBSITE_LINKEDIN_yamaha_mt-07-sport-pakket_1920x1080_FR_branded.jpg
END:VEVENT
END:VCALENDAR