BEGIN:VCALENDAR
VERSION:2.0
PRODID:-//Garage Morosini - ECPv6.15.13.1//NONSGML v1.0//EN
CALSCALE:GREGORIAN
METHOD:PUBLISH
X-ORIGINAL-URL:https://garage-morosini.com
X-WR-CALDESC:Évènements pour Garage Morosini
REFRESH-INTERVAL;VALUE=DURATION:PT1H
X-Robots-Tag:noindex
X-PUBLISHED-TTL:PT1H
BEGIN:VTIMEZONE
TZID:Europe/Brussels
BEGIN:DAYLIGHT
TZOFFSETFROM:+0100
TZOFFSETTO:+0200
TZNAME:CEST
DTSTART:20240331T010000
END:DAYLIGHT
BEGIN:STANDARD
TZOFFSETFROM:+0200
TZOFFSETTO:+0100
TZNAME:CET
DTSTART:20241027T010000
END:STANDARD
BEGIN:DAYLIGHT
TZOFFSETFROM:+0100
TZOFFSETTO:+0200
TZNAME:CEST
DTSTART:20250330T010000
END:DAYLIGHT
BEGIN:STANDARD
TZOFFSETFROM:+0200
TZOFFSETTO:+0100
TZNAME:CET
DTSTART:20251026T010000
END:STANDARD
BEGIN:DAYLIGHT
TZOFFSETFROM:+0100
TZOFFSETTO:+0200
TZNAME:CEST
DTSTART:20260329T010000
END:DAYLIGHT
BEGIN:STANDARD
TZOFFSETFROM:+0200
TZOFFSETTO:+0100
TZNAME:CET
DTSTART:20261025T010000
END:STANDARD
BEGIN:DAYLIGHT
TZOFFSETFROM:+0100
TZOFFSETTO:+0200
TZNAME:CEST
DTSTART:20270328T010000
END:DAYLIGHT
BEGIN:STANDARD
TZOFFSETFROM:+0200
TZOFFSETTO:+0100
TZNAME:CET
DTSTART:20271031T010000
END:STANDARD
END:VTIMEZONE
BEGIN:VEVENT
DTSTART;TZID=Europe/Brussels:20251101T090000
DTEND;TZID=Europe/Brussels:20260331T180000
DTSTAMP:20260423T182019
CREATED:20251017T091354Z
LAST-MODIFIED:20251017T091354Z
UID:9813-1761987600-1774980000@garage-morosini.com
SUMMARY:SERVICE HIVERNAGE
DESCRIPTION:NEW !! Service hivernage du 1er novembre au 31 mars \nCe service comprend : \n\nLe stockage sécurisé\, à l’intérieur ;\nLe maintien de charge de votre batterie\nUn check-up de printemps\nLa restitution de votre véhicule sous 48h ouvrées\n\nProfitez de cette période d’hivernage pour réaliser d’autres travaux et bénéficiez de 15% de remise sur la main d’œuvre. \nPlaces limitées !!! Réservez votre place dès maintenant !!!
URL:https://garage-morosini.com/evenements/service-hivernage/
ATTACH;FMTTYPE=image/jpeg:https://garage-morosini.com/wp-content/uploads/2025/10/559186786_1346930833887954_4056681532635122690_n.jpg
END:VEVENT
BEGIN:VEVENT
DTSTART;TZID=Europe/Brussels:20260301T080000
DTEND;TZID=Europe/Brussels:20260531T170000
DTSTAMP:20260423T182019
CREATED:20260313T131517Z
LAST-MODIFIED:20260423T125926Z
UID:9907-1772352000-1780246800@garage-morosini.com
SUMMARY:Offre exceptionnelle MT09
DESCRIPTION:Offre exceptionnelle sur la Yamaha MT-09\nPour bien commencer la saison\, profitez d’une remise de 1000 € sur :\nMT-09 & MT-09 Y-AMT\, disponible en version full ou 35 kW (A2). \nUne occasion idéale de prendre le guidon d’un roadster au caractère unique. \n  \n 
URL:https://garage-morosini.com/evenements/offre-exceptionnelle/
LOCATION:rue des deux luxembourg 19 6791 Athus\, Belgium
ATTACH;FMTTYPE=image/jpeg:https://garage-morosini.com/wp-content/uploads/2026/03/2025-Yamaha-MT09AS-EU-Tech_Black-Action-001-03.jpg
END:VEVENT
END:VCALENDAR